Workbook
Name ConvFactor: Lists!$J$3:$J$17
Name ConvWasteType: Lists!$I$3:$I$17
Name MethodList: Lists!$A$3:$A$10
Name Project_Type: OFFSET([1]Lists!$A$2,,,COUNTA([1]Lists!$A:$A)-1,1)
Name YesNoList: Lists!$C$3:$C$4

Sheet Start here
A1: Construction & demolition Waste Management Plan (template)
A2: Use this workbook to plan, track, and report how waste will be managed on your project to fulfil the requirement of the Solid Waste Management and Minimsation Bylaw 2021. Fill in the yellow cells. Blue cells are optional but recommended.
A4: How to use
A5: 1) Before work starts: complete 'Project details', 'Waste goals & litter', and 'Planned waste (estimate)'.
A6: 2) Once these sections are complete, send to x for approval
A7: 3) During the job: update 'Waste record (actual)' as waste leaves site (use invoices or weighbridge dockets where possible).
A8: 4) After completion (within 3 months): complete 'Close-out review'.
A9: 5) When complete: submit to: lesswaste@kapiticoast.govt.nz
A11: What is 'Required' vs 'Optional'?
A12: Required sections help you meet Council minimum requirements for a construction site or demolition waste plan. Optional sections are prompts for good practice questions that can help reduce waste, time, and cost.
A15: Legend
A16: Yellow cells = fill these in | D16: Mandatory
A17: White cells = automatic totals / calculations | D17: Auto calculated
A18: Light blue areas = optional | D18: Optional

Sheet Project details
A1: Project and contact details (Required)
A2: Fill in the yellow cells. Blue cells are optional. This sheet captures who is responsible and where the work is happening.
A3: This information must be completed for all projects required to submit a Waste Management Plan under the Solid Waste Management and Minimisation Bylaw 2021
A5: Project name (Optional) | F5: Consent number (if applicable)
A7: Site address | F7: Site suburb / city
A9: Project type (select from dropdown) | F9: Estimated total cost of build (NZD)
A11: Work start date | F11: Expected completion date
A14: Client / owner name | F14: Client / owner contact (phone/email)
A17: Main contractor (principal contractor) | F17: Main contractor contact (phone/email)
A20: Person responsible for completing this plan | F20: Role / company
A22: Email | F22: Phone
A25: Site size (m²) (optional) | F25: Building size (m²) (optional)
A27: Building type (optional) (select from dropdown)

Sheet Waste goals & litter
A1: Waste goals, site set-up and litter control
A2: Complete this section before construction starts. Tick the actions that will be used on this project and add brief notes where relevant. Not all actions will be relavent to every project.
A4: Required: litter and site controls
A5: Question | B5: Answer
A6: How will you stop waste and packaging blowing or washing off site?
A7: How will you keep footpaths, drains, and the road clean during the job?
A8: What waste and material sorting and/or separation will you have on site?
A9: Where will skips / bins be located, and will they be covered when not in use?
A10: Who is responsible for checking waste areas and litter control, and how often?
A11: How will you brief subcontractors about the waste set-up and expectations?
A12: Confirm that every contractor knows where a copy of the waste management plan can be found, and confirm the location. It must be available to any contractor carrying out any work described in the plan.
A14: Optional: good practice ideas (tick what you plan to do)
A15: Good practice action | B15: Tick if yes | C15: Short description/notes
A16: Planning
A17: Set a clear waste reduction target for the project (e.g., 'aim for 70% diversion from landfill') | B17: FALSE
A18: Use construction methods and products that allow for deconstruction and that are easy to dismantle for reuse and recycling. (e.g. using mechanical fixing instead of adhesives, not blending too many materials together, or minimising finishing requirements.) | B18: FALSE
A19: Schedule works to minimise time between delivery and installation, to reduce damage and waste onsite | B19: FALSE
A20: Materials and storage
A21: Order materials to suit the job, and avoid over-ordering. | B21: FALSE
A22: Use reused/second hand materials (where able) | B22: FALSE
A23: Reuse offcuts, scraps and other materials created on site where possible (on this job or another job). | B23: FALSE
A24: Store materials off the ground and protected from weather to prevent damage. | B24: FALSE
A25: Store any oversupply of materials immediately offsite for future projects, or return any that will not be used, to reduce the potential for product damage and wastage | B25: FALSE
A26: Set up a clearly labelled reuse area for onsite using separate well labelled containers/skips/piles for salvage and offcuts | B26: FALSE
A27: Suppliers
A28: Arrange with suppliers to reduce packaging , and use packaging that is recyclable | B28: FALSE
A29: Ask suppliers for packaging take-back or reusable packaging (pallets, stillages) | B29: FALSE
A30: Prefer suppliers who have waste minimisation/environmental plans/ credentials | B30: FALSE
A31: Staff Engagement
A32: Ensure continued communication onsite to staff and subcontractors about waste management systems e.g. include waste as a standing item at site or toolbox meetings | B32: FALSE
A33: Ask subcontractors to identify any trade specific materials they can take off site for reuse, recycling, or recovery through their usual systems | B33: FALSE
A34: Give staff an incentive to use resources more efficiently, e.g. put a simple 'waste scoreboard' on the noticeboard (how much diverted vs landfill) | B34: FALSE
A35: Set up an ideas board for waste- related suggstions | B35: FALSE
A36: Other
A37: Other – list any other actions required of staff, contractors and subcontractors to reduce and manage waste | B37: FALSE

Sheet Waste plan (estimate)
A1: Planned waste (estimate) (Required)
A2: Before construction: complete columns for each material you expect to generate. List each waste type you expect, where it will go, and an estimated amount (kg). Use one row per material type. Use drop down - if not on the drop down use 'other' and name in 'Notes' column.
E3: *if no quantity is diverted (ie, sent to cleanfill or landfill), put zero
A4: Waste type / material (expected to produce) | B4: Estimated quantity of waste/material generated (kg) | C4: Proposed method of waste/material management | D4: Secondary waste/material management method (if applicable) | E4: Estimated diverted (kg)* | F4: Where will it go? (Destination/company) | G4: Notes (optional) | I4: Volume to weight conversion calculator for some common material types
A5: Common Materials (Use drop down, if not on the drop down use 'other' and name in 'Notes' column) | I5: Use the table below to convert volume measurements of different waste types into estimated weights (in kilograms) for your Materials Waste Management Plan and Waste Record. Enter your volume or estimated volume in column L and the estimated weight will be calculated in column M.
A6: Column1 | B6: Column2 | C6: Column3 | D6: Column4 | E6: Column5 | F6: Column6 | G6: Column7
I7: Material | J7: Type | K7: Average Density (kg/m3) | L7: Your volume (enter in m3) | M7: Estimated weight (kg)
I8: Concrete/masonry | J8: Rubble | K8: 1048 | M8: =L8*K8 -> 0
J9: Concrete | K9: 830 | M9: =L9*K9 -> 0
J10: Tiles | K10: 1500 | M10: =L10*K10 -> 0
I11: Timber | J11: Timber | K11: 156 | M11: =L11*K11 -> 0
J12: Furniture | K12: 220 | M12: =L12*K12 -> 0
J13: MDF | K13: 156 | M13: =L13*K13 -> 0
I14: Plasterboard | J14: Plasterboard | K14: 227 | M14: =L14*K14 -> 0
I15: Glass | J15: Glass | K15: 411 | M15: =L15*K15 -> 0
I16: Metals | J16: Ferrous | K16: 200 | M16: =L16*K16 -> 0
J17: Non-Ferrous | K17: 139 | M17: =L17*K17 -> 0
I18: Carpet | J18: Carpet tiles | K18: 200 | M18: =L18*K18 -> 0
J19: Broadloom carpet | K19: 180 | M19: =L19*K19 -> 0
I20: Plastics | J20: Plastic - Hard | K20: 72 | M20: =L20*K20 -> 0
J21: Polystyrene | K21: 21 | M21: =L21*K21 -> 0
I22: Hazardous waste | J22: Asbestos | K22: 360 | M22: =L22*K22 -> 0
J23: Insulation | K23: 100 | M23: =L23*K23 -> 0
I24: Other waste | J24: Linoleum | K24: 350 | M24: =L24*K24 -> 0
I43: =IF(B44=0,"",E44/B44)
A44: Totals | B44: =SUM(B5:B42) -> 0 | E44: =SUM(E5:E42) -> 0 | G44: Estimated diversion rate

Sheet Waste record (actual)
A1: Waste record (actual) (Required during the job)
A2: During and after construction: complete the blue columns using actual data where available .Use weighbridge dockets, invoices, waste contractor reports, or site records where possible. If actual weights are not available, use reasonable estimates | P2: Column Notes
P3: Disposal Cost - Landfill or cleanfill disposal fees. Use actual costs from weighbridge dockets, invoices, or contractor reports where available. If actual costs are not available, fill in the the Disposal and Recovery Costs Reference table and use it to estimate a $/kg rate. Labour costs should be excluded.
A4: Totals are calculated automatically in white cells. Do not overwrite these cells.
P5: Diversion Cost - Fees paid for recycling, recovery, or reuse services. Use actual cost from invoices or contractor reports where available. If actual costs are not available, fill in the the Disposal and Recovery Costs Reference table and use it to estimate a $/kg rate.
P6: Payments Received - Payments or rebates received from scrap collectors or material recovery
P7: Estimated avoided landfill or cleanfill disposal cost - An estimate of what it would have cost to dispose of the diverted material to landfill or cleanfill (Diverted kg × disposal cost per kg).
P9: Net $ - Estimated savings minus disposal cost. Positive = net cost. Negative = net saving.
F10: Diversion | I10: Disposal | P10: Enter all costs and payments as positive dollar values. The spreadsheet will automatically calculate total costs and savings presented in the Close-out review worksheet.
A11: Waste type / material | B11: Where it went (company / facility, or onsite) | E11: Estimated kg produced (from plan) | F11: Reused (kg) | G11: Recycled (kg) | H11: Other recovery (kg) | I11: Cleanfill (kg) | J11: Landfill (kg) | K11: Other disposal (kg) | L11: Total generated (kg) | M11: Total disposed (kg) | N11: Diverted (kg) | O11: Diversion % | P11: Disposal Cost | Q11: Diversion Cost | R11: Payments recieved | S11: Estimated avoided landfill or cleanfill disposal costs (NZD) | T11: Net $ | V11: Disposal and Recovery Costs Reference table - How to use
A12: Common Materials | V12: Use this table if you do not have actual disposal or recovery costs from weighbridge dockets, receipts, or invoices. This table supports the required reporting of estimated cost savings under the bylaw. It provides indicative estimates only and is not intended for exact accounting
A14: Column1 | B14: Column2 | C14: Column3 | D14: Column4 | E14: Column5 | F14: Column6 | G14: Column7 | H14: Column8 | I14: Column9 | J14: Column10 | K14: Column11 | L14: Column12 | M14: Column13 | N14: Column14 | O14: Column15 | P14: Column16 | Q14: Column17 | R14: Column18 | S14: Column19 | T14: Column20
A15: ='Waste plan (estimate)'!A7 -> 0 | E15: =IF(A15="",0,SUMIF('Waste plan (estimate)'!$A$5:$A$203,A15,'Waste plan (estimate)'!$B$5:$B$203)) -> 0 | L15: =SUM(F15:K15) -> 0 | M15: =SUM(I15:K15) -> 0 | N15: =SUM(F15:H15) -> 0 | O15: =IF(L15=0,"",N15/L15) | P15: 0 | Q15: =H15*X33 -> 0 | R15: 0 | S15: 0 | T15: =(P15+Q15)-(R15+S15) -> 0 | V15: 1. Enter waste quantities first
A16: ='Waste plan (estimate)'!A8 -> 0 | E16: =IF(A16="",0,SUMIF('Waste plan (estimate)'!$A$5:$A$203,A16,'Waste plan (estimate)'!$B$5:$B$203)) -> 0 | L16: =SUM(F16:K16) -> 0 | M16: =SUM(I16:K16) -> 0 | N16: =SUM(F16:H16) -> 0 | O16: =IF(L16=0,"",N16/L16) | P16: 0 | Q16: 0 | R16: 0 | S16: 0 | T16: =(P16+Q16)-(R16+S16) -> 0 | V16: Complete the waste quantities in the Waste Record before using this table.
A17: ='Waste plan (estimate)'!A9 -> 0 | E17: =IF(A17="",0,SUMIF('Waste plan (estimate)'!$A$5:$A$203,A17,'Waste plan (estimate)'!$B$5:$B$203)) -> 0 | L17: =SUM(F17:K17) -> 0 | M17: =SUM(I17:K17) -> 0 | N17: =SUM(F17:H17) -> 0 | O17: =IF(L17=0,"",N17/L17) | P17: =I17*X31 -> 0 | Q17: 0 | R17: 0 | S17: 0 | T17: =(P17+Q17)-(R17+S17) -> 0
A18: ='Waste plan (estimate)'!A10 -> 0 | E18: =IF(A18="",0,SUMIF('Waste plan (estimate)'!$A$5:$A$203,A18,'Waste plan (estimate)'!$B$5:$B$203)) -> 0 | L18: =SUM(F18:K18) -> 0 | M18: =SUM(I18:K18) -> 0 | N18: =SUM(F18:H18) -> 0 | O18: =IF(L18=0,"",N18/L18) | P18: =L18*X30 -> 0 | Q18: 0 | R18: 0 | S18: 0 | T18: =(P18+Q18)-(R18+S18) -> 0 | V18: 2. Enter estimate rates once in the Cost and Savings table below
A19: ='Waste plan (estimate)'!A11 -> 0 | E19: =IF(A19="",0,SUMIF('Waste plan (estimate)'!$A$5:$A$203,A19,'Waste plan (estimate)'!$B$5:$B$203)) -> 0 | L19: =SUM(F19:K19) -> 0 | M19: =SUM(I19:K19) -> 0 | N19: =SUM(F19:H19) -> 0 | O19: =IF(L19=0,"",N19/L19) | P19: 0 | Q19: 0 | R19: 0 | S19: 0 | T19: =(P19+Q19)-(R19+S19) -> 0 | V19: Enter the disposal rates for each facility used ($/tonne). You only need to enter each rate once. Use these rates to calculate estimated disposal costs by multiplying them against the relevant waste quantities
A20: ='Waste plan (estimate)'!A12 -> 0 | E20: =IF(A20="",0,SUMIF('Waste plan (estimate)'!$A$5:$A$203,A20,'Waste plan (estimate)'!$B$5:$B$203)) -> 0 | L20: =SUM(F20:K20) -> 0 | M20: =SUM(I20:K20) -> 0 | N20: =SUM(F20:H20) -> 0 | O20: =IF(L20=0,"",N20/L20) | P20: 0 | Q20: 0 | R20: 0 | S20: 0 | T20: =(P20+Q20)-(R20+S20) -> 0
A21: ='Waste plan (estimate)'!A13 -> 0 | E21: =IF(A21="",0,SUMIF('Waste plan (estimate)'!$A$5:$A$203,A21,'Waste plan (estimate)'!$B$5:$B$203)) -> 0 | L21: =SUM(F21:K21) -> 0 | M21: =SUM(I21:K21) -> 0 | N21: =SUM(F21:H21) -> 0 | O21: =IF(L21=0,"",N21/L21) | P21: 0 | Q21: 0 | R21: 0 | S21: 0 | T21: =(P21+Q21)-(R21+S21) -> 0
A22: ='Waste plan (estimate)'!A14 -> 0 | E22: =IF(A22="",0,SUMIF('Waste plan (estimate)'!$A$5:$A$203,A22,'Waste plan (estimate)'!$B$5:$B$203)) -> 0 | L22: =SUM(F22:K22) -> 0 | M22: =SUM(I22:K22) -> 0 | N22: =SUM(F22:H22) -> 0 | O22: =IF(L22=0,"",N22/L22) | P22: 0 | Q22: 0 | R22: 0 | S22: 0 | T22: =(P22+Q22)-(R22+S22) -> 0 | V22: 3. How these rates should be used
A23: ='Waste plan (estimate)'!A15 -> 0 | E23: =IF(A23="",0,SUMIF('Waste plan (estimate)'!$A$5:$A$203,A23,'Waste plan (estimate)'!$B$5:$B$203)) -> 0 | L23: =SUM(F23:K23) -> 0 | M23: =SUM(I23:K23) -> 0 | N23: =SUM(F23:H23) -> 0 | O23: =IF(L23=0,"",N23/L23) | P23: 0 | Q23: 0 | R23: 0 | S23: 0 | T23: =(P23+Q23)-(R23+S23) -> 0 | V23: The rates entered here can be used to:
A24: ='Waste plan (estimate)'!A16 -> 0 | E24: =IF(A24="",0,SUMIF('Waste plan (estimate)'!$A$5:$A$203,A24,'Waste plan (estimate)'!$B$5:$B$203)) -> 0 | L24: =SUM(F24:K24) -> 0 | M24: =SUM(I24:K24) -> 0 | N24: =SUM(F24:H24) -> 0 | O24: =IF(L24=0,"",N24/L24) | P24: 0 | Q24: 0 | R24: 0 | S24: 0 | T24: =(P24+Q24)-(R24+S24) -> 0 | V24: • estimate Disposal Cost where actual costs are unknown
A25: ='Waste plan (estimate)'!A17 -> 0 | E25: =IF(A25="",0,SUMIF('Waste plan (estimate)'!$A$5:$A$203,A25,'Waste plan (estimate)'!$B$5:$B$203)) -> 0 | L25: =SUM(F25:K25) -> 0 | M25: =SUM(I25:K25) -> 0 | N25: =SUM(F25:H25) -> 0 | O25: =IF(L25=0,"",N25/L25) | P25: 0 | Q25: 0 | R25: 0 | S25: 0 | T25: =(P25+Q25)-(R25+S25) -> 0 | V25: • calculate Estimated avoided landfill or cleanfill disposal costs for diverted materials
A26: ='Waste plan (estimate)'!A18 -> 0 | E26: =IF(A26="",0,SUMIF('Waste plan (estimate)'!$A$5:$A$203,A26,'Waste plan (estimate)'!$B$5:$B$203)) -> 0 | L26: =SUM(F26:K26) -> 0 | M26: =SUM(I26:K26) -> 0 | N26: =SUM(F26:H26) -> 0 | O26: =IF(L26=0,"",N26/L26) | P26: 0 | Q26: 0 | R26: 0 | S26: 0 | T26: =(P26+Q26)-(R26+S26) -> 0
A27: ='Waste plan (estimate)'!A19 -> 0 | E27: =IF(A27="",0,SUMIF('Waste plan (estimate)'!$A$5:$A$203,A27,'Waste plan (estimate)'!$B$5:$B$203)) -> 0 | L27: =SUM(F27:K27) -> 0 | M27: =SUM(I27:K27) -> 0 | N27: =SUM(F27:H27) -> 0 | O27: =IF(L27=0,"",N27/L27) | P27: 0 | Q27: 0 | R27: 0 | S27: 0 | T27: =(P27+Q27)-(R27+S27) -> 0
A28: ='Waste plan (estimate)'!A20 -> 0 | E28: =IF(A28="",0,SUMIF('Waste plan (estimate)'!$A$5:$A$203,A28,'Waste plan (estimate)'!$B$5:$B$203)) -> 0 | L28: =SUM(F28:K28) -> 0 | M28: =SUM(I28:K28) -> 0 | N28: =SUM(F28:H28) -> 0 | O28: =IF(L28=0,"",N28/L28) | P28: 0 | Q28: 0 | R28: 0 | S28: 0 | T28: =(P28+Q28)-(R28+S28) -> 0 | V28: Disposal and Recovery Costs Reference Table
A29: ='Waste plan (estimate)'!A21 -> 0 | E29: =IF(A29="",0,SUMIF('Waste plan (estimate)'!$A$5:$A$203,A29,'Waste plan (estimate)'!$B$5:$B$203)) -> 0 | L29: =SUM(F29:K29) -> 0 | M29: =SUM(I29:K29) -> 0 | N29: =SUM(F29:H29) -> 0 | O29: =IF(L29=0,"",N29/L29) | P29: 0 | Q29: 0 | R29: 0 | S29: 0 | T29: =(P29+Q29)-(R29+S29) -> 0 | V29: Facility Name | W29: Cost per tonne | X29: Cost per kg
A30: ='Waste plan (estimate)'!A22 -> 0 | E30: =IF(A30="",0,SUMIF('Waste plan (estimate)'!$A$5:$A$203,A30,'Waste plan (estimate)'!$B$5:$B$203)) -> 0 | L30: =SUM(F30:K30) -> 0 | M30: =SUM(I30:K30) -> 0 | N30: =SUM(F30:H30) -> 0 | O30: =IF(L30=0,"",N30/L30) | P30: 0 | Q30: 0 | R30: 0 | S30: 0 | T30: =(P30+Q30)-(R30+S30) -> 0 | U30: Example | V30: Silverstream Landfill | W30: 288 | X30: =Table2[[#This Row],[Cost per tonne]]/1000 -> 0.288
A31: ='Waste plan (estimate)'!A23 -> 0 | E31: =IF(A31="",0,SUMIF('Waste plan (estimate)'!$A$5:$A$203,A31,'Waste plan (estimate)'!$B$5:$B$203)) -> 0 | L31: =SUM(F31:K31) -> 0 | M31: =SUM(I31:K31) -> 0 | N31: =SUM(F31:H31) -> 0 | O31: =IF(L31=0,"",N31/L31) | P31: 0 | Q31: 0 | R31: 0 | S31: 0 | T31: =(P31+Q31)-(R31+S31) -> 0
A32: ='Waste plan (estimate)'!A24 -> 0 | E32: =IF(A32="",0,SUMIF('Waste plan (estimate)'!$A$5:$A$203,A32,'Waste plan (estimate)'!$B$5:$B$203)) -> 0 | L32: =SUM(F32:K32) -> 0 | M32: =SUM(I32:K32) -> 0 | N32: =SUM(F32:H32) -> 0 | O32: =IF(L32=0,"",N32/L32) | P32: 0 | Q32: 0 | R32: 0 | S32: 0 | T32: =(P32+Q32)-(R32+S32) -> 0
A33: ='Waste plan (estimate)'!A25 -> 0 | E33: =IF(A33="",0,SUMIF('Waste plan (estimate)'!$A$5:$A$203,A33,'Waste plan (estimate)'!$B$5:$B$203)) -> 0 | L33: =SUM(F33:K33) -> 0 | M33: =SUM(I33:K33) -> 0 | N33: =SUM(F33:H33) -> 0 | O33: =IF(L33=0,"",N33/L33) | P33: 0 | Q33: 0 | R33: 0 | S33: 0 | T33: =(P33+Q33)-(R33+S33) -> 0
A34: ='Waste plan (estimate)'!A26 -> 0 | E34: =IF(A34="",0,SUMIF('Waste plan (estimate)'!$A$5:$A$203,A34,'Waste plan (estimate)'!$B$5:$B$203)) -> 0 | L34: =SUM(F34:K34) -> 0 | M34: =SUM(I34:K34) -> 0 | N34: =SUM(F34:H34) -> 0 | O34: =IF(L34=0,"",N34/L34) | P34: 0 | Q34: 0 | R34: 0 | S34: 0 | T34: =(P34+Q34)-(R34+S34) -> 0
A35: ='Waste plan (estimate)'!A27 -> 0 | E35: =IF(A35="",0,SUMIF('Waste plan (estimate)'!$A$5:$A$203,A35,'Waste plan (estimate)'!$B$5:$B$203)) -> 0 | L35: =SUM(F35:K35) -> 0 | M35: =SUM(I35:K35) -> 0 | N35: =SUM(F35:H35) -> 0 | O35: =IF(L35=0,"",N35/L35) | P35: 0 | Q35: 0 | R35: 0 | S35: 0 | T35: =(P35+Q35)-(R35+S35) -> 0
A36: ='Waste plan (estimate)'!A28 -> 0 | E36: =IF(A36="",0,SUMIF('Waste plan (estimate)'!$A$5:$A$203,A36,'Waste plan (estimate)'!$B$5:$B$203)) -> 0 | L36: =SUM(F36:K36) -> 0 | M36: =SUM(I36:K36) -> 0 | N36: =SUM(F36:H36) -> 0 | O36: =IF(L36=0,"",N36/L36) | P36: 0 | Q36: 0 | R36: 0 | S36: 0 | T36: =(P36+Q36)-(R36+S36) -> 0
A37: ='Waste plan (estimate)'!A29 -> 0 | E37: =IF(A37="",0,SUMIF('Waste plan (estimate)'!$A$5:$A$203,A37,'Waste plan (estimate)'!$B$5:$B$203)) -> 0 | L37: =SUM(F37:K37) -> 0 | M37: =SUM(I37:K37) -> 0 | N37: =SUM(F37:H37) -> 0 | O37: =IF(L37=0,"",N37/L37) | P37: 0 | Q37: 0 | R37: 0 | S37: 0 | T37: =(P37+Q37)-(R37+S37) -> 0
A38: ='Waste plan (estimate)'!A30 -> 0 | E38: =IF(A38="",0,SUMIF('Waste plan (estimate)'!$A$5:$A$203,A38,'Waste plan (estimate)'!$B$5:$B$203)) -> 0 | L38: =SUM(F38:K38) -> 0 | M38: =SUM(I38:K38) -> 0 | N38: =SUM(F38:H38) -> 0 | O38: =IF(L38=0,"",N38/L38) | P38: 0 | Q38: 0 | R38: 0 | S38: 0 | T38: =(P38+Q38)-(R38+S38) -> 0
A39: ='Waste plan (estimate)'!A31 -> 0 | E39: =IF(A39="",0,SUMIF('Waste plan (estimate)'!$A$5:$A$203,A39,'Waste plan (estimate)'!$B$5:$B$203)) -> 0 | L39: =SUM(F39:K39) -> 0 | M39: =SUM(I39:K39) -> 0 | N39: =SUM(F39:H39) -> 0 | O39: =IF(L39=0,"",N39/L39) | P39: 0 | Q39: 0 | R39: 0 | S39: 0 | T39: =(P39+Q39)-(R39+S39) -> 0
A40: ='Waste plan (estimate)'!A32 -> 0 | E40: =IF(A40="",0,SUMIF('Waste plan (estimate)'!$A$5:$A$203,A40,'Waste plan (estimate)'!$B$5:$B$203)) -> 0 | L40: =SUM(F40:K40) -> 0 | M40: =SUM(I40:K40) -> 0 | N40: =SUM(F40:H40) -> 0 | O40: =IF(L40=0,"",N40/L40) | P40: 0 | Q40: 0 | R40: 0 | S40: 0 | T40: =(P40+Q40)-(R40+S40) -> 0
A41: ='Waste plan (estimate)'!A33 -> 0 | E41: =IF(A41="",0,SUMIF('Waste plan (estimate)'!$A$5:$A$203,A41,'Waste plan (estimate)'!$B$5:$B$203)) -> 0 | L41: =SUM(F41:K41) -> 0 | M41: =SUM(I41:K41) -> 0 | N41: =SUM(F41:H41) -> 0 | O41: =IF(L41=0,"",N41/L41) | P41: 0 | Q41: 0 | R41: 0 | S41: 0 | T41: =(P41+Q41)-(R41+S41) -> 0
A42: ='Waste plan (estimate)'!A34 -> 0 | E42: =IF(A42="",0,SUMIF('Waste plan (estimate)'!$A$5:$A$203,A42,'Waste plan (estimate)'!$B$5:$B$203)) -> 0 | L42: =SUM(F42:K42) -> 0 | M42: =SUM(I42:K42) -> 0 | N42: =SUM(F42:H42) -> 0 | O42: =IF(L42=0,"",N42/L42) | P42: 0 | Q42: 0 | R42: 0 | S42: 0 | T42: =(P42+Q42)-(R42+S42) -> 0
...

Sheet Close-out review
A1: Close-out review (Required after completion)
A2: Complete this section at the end of the project. (within 3 months). It confirms the plan was used, compares estimates vs actuals, and records lessons and cost impacts.
A4: Auto summary (from your plan and record)
A5: Estimated total waste (kg) | G5: ='Waste plan (estimate)'!B44 -> 0
A6: Estimated diverted (kg) | G6: ='Waste plan (estimate)'!E44 -> 0
A7: Estimated diversion rate | G7: =IF(G5=0,"",G6/G5)
A8: Actual total waste (kg) | G8: ='Waste record (actual)'!L54 -> 0
A9: Actual diverted (kg) | G9: ='Waste record (actual)'!N54 -> 0
A10: Actual diversion rate | G10: =IF(G8=0,"",G9/G8)
A11: Actual to landfill (kg) | G11: ='Waste record (actual)'!J54 -> 0
A12: Actual to cleanfill (kg) | G12: ='Waste record (actual)'!I54 -> 0
A13: Estimate of cost savings from implementing plan | G13: ='Waste record (actual)'!R54+'Waste record (actual)'!S54 -> 0
A15: Required confirmations
A16: Confirmation | J16: Yes | K16: No | L16: Details / where recorded
A17: This plan was checked and updated during the job when needed. | J17: FALSE | K17: FALSE
A18: A copy of this plan was kept on site. | J18: FALSE | K18: FALSE
A19: All contractors/subcontractors were told where to find the plan on site, and had access to it. | J19: FALSE | K19: FALSE
A21: Required: compare estimated amount generated vs actual amount generated waste/material (auto-calculated) | K21: For noting only : Estimated diversion vs actual diversion, and indicative cost impacts per material stream (auto-calculated)
A22: This table will fill automatically from the materials listed in the drop downs from the waste plan and waste record. | K22: This table will fill automatically from the materials listed in the drop downs from the waste plan and waste record.
A23: Waste type / material | C23: Estimated generated(kg) | D23: Actual generated (kg) | E23: Difference (kg) | F23: Briefly explain any reasons for differences | K23: Waste type/Material | L23: Estimated Diverted (kg) | M23: Actual diverted (kg) | N23: To landfill (kg) | O23: To cleanfill (kg) | P23: Actual disposal cost | Q23: Actual diversion cost | R23: Estimated avoided disposal costs | S23: Notes (optional)
A24: {=IFERROR( INDEX('Waste record (actual)'!$A$15:$A$52, _xlfn.AGGREGATE( 15,6, (ROW('Waste record (actual)'!$A$15:$A$52)-ROW('Waste record (actual)'!$A$15)+1)/ (('Waste record (actual)'!$A$15:$A$52<>"")*(COUNTIF($A$23:K23,'Waste record (actual)'!$A$15:$A$52)=0)), 1 ) ), "")} -> 0 | C24: =IF($A24="","",IFERROR(INDEX('Waste plan (estimate)'!$B$5:$B$203, MATCH($A24,'Waste plan (estimate)'!$A$5:$A$203,0)),"")) | D24: =IF($A24="","",SUMIF('Waste record (actual)'!$A$15:$A$508,$A24,'Waste record (actual)'!$L$15:$L$508)) -> 0 | E24: =IF($A24="","",D24-C24) -> #VALUE! | K24: {=IFERROR( INDEX('Waste record (actual)'!$A$15:$A$52, _xlfn.AGGREGATE( 15,6, (ROW('Waste record (actual)'!$A$15:$A$52)-ROW('Waste record (actual)'!$A$15)+1)/ (('Waste record (actual)'!$A$15:$A$52<>"")*(COUNTIF($A$23:K23,'Waste record (actual)'!$A$15:$A$52)=0)), 1 ) ), "")} -> 0 | L24: =IF($A24="","",IFERROR(INDEX('Waste plan (estimate)'!$E$5:$E$203, MATCH($A24,'Waste plan (estimate)'!$A$5:$A$203,0)),"")) | M24: =IF($A24="","",SUMIF('Waste record (actual)'!$A$15:$A$508,$A24,'Waste record (actual)'!$N$15:$N$508)) -> 0 | N24: =IF($A24="","",SUMIF('Waste record (actual)'!$A$15:$A$508,$A24,'Waste record (actual)'!$J$15:$J$508)) -> 0 | O24: =IF($A24="","",SUMIF('Waste record (actual)'!$A$15:$A$508,$A24,'Waste record (actual)'!$I$15:$I$508)) -> 0 | P24: =IF($A24="","",SUMIF('Waste record (actual)'!$A$15:$A$508,$A24,'Waste record (actual)'!$P$15:$P$508)) -> 0 | Q24: =IF($A24="","",SUMIF('Waste record (actual)'!$A$15:$A$508,$A24,'Waste record (actual)'!$Q$15:$Q$508)) -> 0 | R24: =IF($A24="","",SUMIF('Waste record (actual)'!$A$15:$A$508,$A24,'Waste record (actual)'!$S$15:$S$508)) -> 0
A25: {=IFERROR( INDEX('Waste record (actual)'!$A$15:$A$52, _xlfn.AGGREGATE( 15,6, (ROW('Waste record (actual)'!$A$15:$A$52)-ROW('Waste record (actual)'!$A$15)+1)/ (('Waste record (actual)'!$A$15:$A$52<>"")*(COUNTIF($A$23:K24,'Waste record (actual)'!$A$15:$A$52)=0)), 1 ) ), "")} | C25: =IF($A25="","",IFERROR(INDEX('Waste plan (estimate)'!$B$5:$B$203, MATCH($A25,'Waste plan (estimate)'!$A$5:$A$203,0)),"")) | D25: =IF($A25="","",SUMIF('Waste record (actual)'!$A$15:$A$508,$A25,'Waste record (actual)'!$L$15:$L$508)) | E25: =IF($A25="","",D25-C25) | K25: {=IFERROR( INDEX('Waste record (actual)'!$A$15:$A$52, _xlfn.AGGREGATE( 15,6, (ROW('Waste record (actual)'!$A$15:$A$52)-ROW('Waste record (actual)'!$A$15)+1)/ (('Waste record (actual)'!$A$15:$A$52<>"")*(COUNTIF($A$23:K24,'Waste record (actual)'!$A$15:$A$52)=0)), 1 ) ), "")} | L25: =IF($A25="","",IFERROR(INDEX('Waste plan (estimate)'!$E$5:$E$203, MATCH($A25,'Waste plan (estimate)'!$A$5:$A$203,0)),"")) | M25: =IF($A25="","",SUMIF('Waste record (actual)'!$A$15:$A$508,$A25,'Waste record (actual)'!$N$15:$N$508)) | N25: =IF($A25="","",SUMIF('Waste record (actual)'!$A$15:$A$508,$A25,'Waste record (actual)'!$J$15:$J$508)) | O25: =IF($A25="","",SUMIF('Waste record (actual)'!$A$15:$A$508,$A25,'Waste record (actual)'!$I$15:$I$508)) | P25: =IF($A25="","",SUMIF('Waste record (actual)'!$A$15:$A$508,$A25,'Waste record (actual)'!$P$15:$P$508)) | Q25: =IF($A25="","",SUMIF('Waste record (actual)'!$A$15:$A$508,$A25,'Waste record (actual)'!$Q$15:$Q$508)) | R25: =IF($A25="","",SUMIF('Waste record (actual)'!$A$15:$A$508,$A25,'Waste record (actual)'!$S$15:$S$508))
A26: {=IFERROR( INDEX('Waste record (actual)'!$A$15:$A$52, _xlfn.AGGREGATE( 15,6, (ROW('Waste record (actual)'!$A$15:$A$52)-ROW('Waste record (actual)'!$A$15)+1)/ (('Waste record (actual)'!$A$15:$A$52<>"")*(COUNTIF($A$23:K25,'Waste record (actual)'!$A$15:$A$52)=0)), 1 ) ), "")} | C26: =IF($A26="","",IFERROR(INDEX('Waste plan (estimate)'!$B$5:$B$203, MATCH($A26,'Waste plan (estimate)'!$A$5:$A$203,0)),"")) | D26: =IF($A26="","",SUMIF('Waste record (actual)'!$A$15:$A$508,$A26,'Waste record (actual)'!$L$15:$L$508)) | E26: =IF($A26="","",D26-C26) | K26: {=IFERROR( INDEX('Waste record (actual)'!$A$15:$A$52, _xlfn.AGGREGATE( 15,6, (ROW('Waste record (actual)'!$A$15:$A$52)-ROW('Waste record (actual)'!$A$15)+1)/ (('Waste record (actual)'!$A$15:$A$52<>"")*(COUNTIF($A$23:K25,'Waste record (actual)'!$A$15:$A$52)=0)), 1 ) ), "")} | L26: =IF($A26="","",IFERROR(INDEX('Waste plan (estimate)'!$E$5:$E$203, MATCH($A26,'Waste plan (estimate)'!$A$5:$A$203,0)),"")) | M26: =IF($A26="","",SUMIF('Waste record (actual)'!$A$15:$A$508,$A26,'Waste record (actual)'!$N$15:$N$508)) | N26: =IF($A26="","",SUMIF('Waste record (actual)'!$A$15:$A$508,$A26,'Waste record (actual)'!$J$15:$J$508)) | O26: =IF($A26="","",SUMIF('Waste record (actual)'!$A$15:$A$508,$A26,'Waste record (actual)'!$I$15:$I$508)) | P26: =IF($A26="","",SUMIF('Waste record (actual)'!$A$15:$A$508,$A26,'Waste record (actual)'!$P$15:$P$508)) | Q26: =IF($A26="","",SUMIF('Waste record (actual)'!$A$15:$A$508,$A26,'Waste record (actual)'!$Q$15:$Q$508)) | R26: =IF($A26="","",SUMIF('Waste record (actual)'!$A$15:$A$508,$A26,'Waste record (actual)'!$S$15:$S$508))
A27: {=IFERROR( INDEX('Waste record (actual)'!$A$15:$A$52, _xlfn.AGGREGATE( 15,6, (ROW('Waste record (actual)'!$A$15:$A$52)-ROW('Waste record (actual)'!$A$15)+1)/ (('Waste record (actual)'!$A$15:$A$52<>"")*(COUNTIF($A$23:K26,'Waste record (actual)'!$A$15:$A$52)=0)), 1 ) ), "")} | C27: =IF($A27="","",IFERROR(INDEX('Waste plan (estimate)'!$B$5:$B$203, MATCH($A27,'Waste plan (estimate)'!$A$5:$A$203,0)),"")) | D27: =IF($A27="","",SUMIF('Waste record (actual)'!$A$15:$A$508,$A27,'Waste record (actual)'!$L$15:$L$508)) | E27: =IF($A27="","",D27-C27) | K27: {=IFERROR( INDEX('Waste record (actual)'!$A$15:$A$52, _xlfn.AGGREGATE( 15,6, (ROW('Waste record (actual)'!$A$15:$A$52)-ROW('Waste record (actual)'!$A$15)+1)/ (('Waste record (actual)'!$A$15:$A$52<>"")*(COUNTIF($A$23:K26,'Waste record (actual)'!$A$15:$A$52)=0)), 1 ) ), "")} | L27: =IF($A27="","",IFERROR(INDEX('Waste plan (estimate)'!$E$5:$E$203, MATCH($A27,'Waste plan (estimate)'!$A$5:$A$203,0)),"")) | M27: =IF($A27="","",SUMIF('Waste record (actual)'!$A$15:$A$508,$A27,'Waste record (actual)'!$N$15:$N$508)) | N27: =IF($A27="","",SUMIF('Waste record (actual)'!$A$15:$A$508,$A27,'Waste record (actual)'!$J$15:$J$508)) | O27: =IF($A27="","",SUMIF('Waste record (actual)'!$A$15:$A$508,$A27,'Waste record (actual)'!$I$15:$I$508)) | P27: =IF($A27="","",SUMIF('Waste record (actual)'!$A$15:$A$508,$A27,'Waste record (actual)'!$P$15:$P$508)) | Q27: =IF($A27="","",SUMIF('Waste record (actual)'!$A$15:$A$508,$A27,'Waste record (actual)'!$Q$15:$Q$508)) | R27: =IF($A27="","",SUMIF('Waste record (actual)'!$A$15:$A$508,$A27,'Waste record (actual)'!$S$15:$S$508))
A28: {=IFERROR( INDEX('Waste record (actual)'!$A$15:$A$52, _xlfn.AGGREGATE( 15,6, (ROW('Waste record (actual)'!$A$15:$A$52)-ROW('Waste record (actual)'!$A$15)+1)/ (('Waste record (actual)'!$A$15:$A$52<>"")*(COUNTIF($A$23:K27,'Waste record (actual)'!$A$15:$A$52)=0)), 1 ) ), "")} | C28: =IF($A28="","",IFERROR(INDEX('Waste plan (estimate)'!$B$5:$B$203, MATCH($A28,'Waste plan (estimate)'!$A$5:$A$203,0)),"")) | D28: =IF($A28="","",SUMIF('Waste record (actual)'!$A$15:$A$508,$A28,'Waste record (actual)'!$L$15:$L$508)) | E28: =IF($A28="","",D28-C28) | K28: {=IFERROR( INDEX('Waste record (actual)'!$A$15:$A$52, _xlfn.AGGREGATE( 15,6, (ROW('Waste record (actual)'!$A$15:$A$52)-ROW('Waste record (actual)'!$A$15)+1)/ (('Waste record (actual)'!$A$15:$A$52<>"")*(COUNTIF($A$23:K27,'Waste record (actual)'!$A$15:$A$52)=0)), 1 ) ), "")} | L28: =IF($A28="","",IFERROR(INDEX('Waste plan (estimate)'!$E$5:$E$203, MATCH($A28,'Waste plan (estimate)'!$A$5:$A$203,0)),"")) | M28: =IF($A28="","",SUMIF('Waste record (actual)'!$A$15:$A$508,$A28,'Waste record (actual)'!$N$15:$N$508)) | N28: =IF($A28="","",SUMIF('Waste record (actual)'!$A$15:$A$508,$A28,'Waste record (actual)'!$J$15:$J$508)) | O28: =IF($A28="","",SUMIF('Waste record (actual)'!$A$15:$A$508,$A28,'Waste record (actual)'!$I$15:$I$508)) | P28: =IF($A28="","",SUMIF('Waste record (actual)'!$A$15:$A$508,$A28,'Waste record (actual)'!$P$15:$P$508)) | Q28: =IF($A28="","",SUMIF('Waste record (actual)'!$A$15:$A$508,$A28,'Waste record (actual)'!$Q$15:$Q$508)) | R28: =IF($A28="","",SUMIF('Waste record (actual)'!$A$15:$A$508,$A28,'Waste record (actual)'!$S$15:$S$508))
A29: {=IFERROR( INDEX('Waste record (actual)'!$A$15:$A$52, _xlfn.AGGREGATE( 15,6, (ROW('Waste record (actual)'!$A$15:$A$52)-ROW('Waste record (actual)'!$A$15)+1)/ (('Waste record (actual)'!$A$15:$A$52<>"")*(COUNTIF($A$23:K28,'Waste record (actual)'!$A$15:$A$52)=0)), 1 ) ), "")} | C29: =IF($A29="","",IFERROR(INDEX('Waste plan (estimate)'!$B$5:$B$203, MATCH($A29,'Waste plan (estimate)'!$A$5:$A$203,0)),"")) | D29: =IF($A29="","",SUMIF('Waste record (actual)'!$A$15:$A$508,$A29,'Waste record (actual)'!$L$15:$L$508)) | E29: =IF($A29="","",D29-C29) | K29: {=IFERROR( INDEX('Waste record (actual)'!$A$15:$A$52, _xlfn.AGGREGATE( 15,6, (ROW('Waste record (actual)'!$A$15:$A$52)-ROW('Waste record (actual)'!$A$15)+1)/ (('Waste record (actual)'!$A$15:$A$52<>"")*(COUNTIF($A$23:K28,'Waste record (actual)'!$A$15:$A$52)=0)), 1 ) ), "")} | L29: =IF($A29="","",IFERROR(INDEX('Waste plan (estimate)'!$E$5:$E$203, MATCH($A29,'Waste plan (estimate)'!$A$5:$A$203,0)),"")) | M29: =IF($A29="","",SUMIF('Waste record (actual)'!$A$15:$A$508,$A29,'Waste record (actual)'!$N$15:$N$508)) | N29: =IF($A29="","",SUMIF('Waste record (actual)'!$A$15:$A$508,$A29,'Waste record (actual)'!$J$15:$J$508)) | O29: =IF($A29="","",SUMIF('Waste record (actual)'!$A$15:$A$508,$A29,'Waste record (actual)'!$I$15:$I$508)) | P29: =IF($A29="","",SUMIF('Waste record (actual)'!$A$15:$A$508,$A29,'Waste record (actual)'!$P$15:$P$508)) | Q29: =IF($A29="","",SUMIF('Waste record (actual)'!$A$15:$A$508,$A29,'Waste record (actual)'!$Q$15:$Q$508)) | R29: =IF($A29="","",SUMIF('Waste record (actual)'!$A$15:$A$508,$A29,'Waste record (actual)'!$S$15:$S$508))
A30: {=IFERROR( INDEX('Waste record (actual)'!$A$15:$A$52, _xlfn.AGGREGATE( 15,6, (ROW('Waste record (actual)'!$A$15:$A$52)-ROW('Waste record (actual)'!$A$15)+1)/ (('Waste record (actual)'!$A$15:$A$52<>"")*(COUNTIF($A$23:K29,'Waste record (actual)'!$A$15:$A$52)=0)), 1 ) ), "")} | C30: =IF($A30="","",IFERROR(INDEX('Waste plan (estimate)'!$B$5:$B$203, MATCH($A30,'Waste plan (estimate)'!$A$5:$A$203,0)),"")) | D30: =IF($A30="","",SUMIF('Waste record (actual)'!$A$15:$A$508,$A30,'Waste record (actual)'!$L$15:$L$508)) | E30: =IF($A30="","",D30-C30) | K30: {=IFERROR( INDEX('Waste record (actual)'!$A$15:$A$52, _xlfn.AGGREGATE( 15,6, (ROW('Waste record (actual)'!$A$15:$A$52)-ROW('Waste record (actual)'!$A$15)+1)/ (('Waste record (actual)'!$A$15:$A$52<>"")*(COUNTIF($A$23:K29,'Waste record (actual)'!$A$15:$A$52)=0)), 1 ) ), "")} | L30: =IF($A30="","",IFERROR(INDEX('Waste plan (estimate)'!$E$5:$E$203, MATCH($A30,'Waste plan (estimate)'!$A$5:$A$203,0)),"")) | M30: =IF($A30="","",SUMIF('Waste record (actual)'!$A$15:$A$508,$A30,'Waste record (actual)'!$N$15:$N$508)) | N30: =IF($A30="","",SUMIF('Waste record (actual)'!$A$15:$A$508,$A30,'Waste record (actual)'!$J$15:$J$508)) | O30: =IF($A30="","",SUMIF('Waste record (actual)'!$A$15:$A$508,$A30,'Waste record (actual)'!$I$15:$I$508)) | P30: =IF($A30="","",SUMIF('Waste record (actual)'!$A$15:$A$508,$A30,'Waste record (actual)'!$P$15:$P$508)) | Q30: =IF($A30="","",SUMIF('Waste record (actual)'!$A$15:$A$508,$A30,'Waste record (actual)'!$Q$15:$Q$508)) | R30: =IF($A30="","",SUMIF('Waste record (actual)'!$A$15:$A$508,$A30,'Waste record (actual)'!$S$15:$S$508))
A31: {=IFERROR( INDEX('Waste record (actual)'!$A$15:$A$52, _xlfn.AGGREGATE( 15,6, (ROW('Waste record (actual)'!$A$15:$A$52)-ROW('Waste record (actual)'!$A$15)+1)/ (('Waste record (actual)'!$A$15:$A$52<>"")*(COUNTIF($A$23:K30,'Waste record (actual)'!$A$15:$A$52)=0)), 1 ) ), "")} | C31: =IF($A31="","",IFERROR(INDEX('Waste plan (estimate)'!$B$5:$B$203, MATCH($A31,'Waste plan (estimate)'!$A$5:$A$203,0)),"")) | D31: =IF($A31="","",SUMIF('Waste record (actual)'!$A$15:$A$508,$A31,'Waste record (actual)'!$L$15:$L$508)) | E31: =IF($A31="","",D31-C31) | K31: {=IFERROR( INDEX('Waste record (actual)'!$A$15:$A$52, _xlfn.AGGREGATE( 15,6, (ROW('Waste record (actual)'!$A$15:$A$52)-ROW('Waste record (actual)'!$A$15)+1)/ (('Waste record (actual)'!$A$15:$A$52<>"")*(COUNTIF($A$23:K30,'Waste record (actual)'!$A$15:$A$52)=0)), 1 ) ), "")} | L31: =IF($A31="","",IFERROR(INDEX('Waste plan (estimate)'!$E$5:$E$203, MATCH($A31,'Waste plan (estimate)'!$A$5:$A$203,0)),"")) | M31: =IF($A31="","",SUMIF('Waste record (actual)'!$A$15:$A$508,$A31,'Waste record (actual)'!$N$15:$N$508)) | N31: =IF($A31="","",SUMIF('Waste record (actual)'!$A$15:$A$508,$A31,'Waste record (actual)'!$J$15:$J$508)) | O31: =IF($A31="","",SUMIF('Waste record (actual)'!$A$15:$A$508,$A31,'Waste record (actual)'!$I$15:$I$508)) | P31: =IF($A31="","",SUMIF('Waste record (actual)'!$A$15:$A$508,$A31,'Waste record (actual)'!$P$15:$P$508)) | Q31: =IF($A31="","",SUMIF('Waste record (actual)'!$A$15:$A$508,$A31,'Waste record (actual)'!$Q$15:$Q$508)) | R31: =IF($A31="","",SUMIF('Waste record (actual)'!$A$15:$A$508,$A31,'Waste record (actual)'!$S$15:$S$508))
A32: {=IFERROR( INDEX('Waste record (actual)'!$A$15:$A$52, _xlfn.AGGREGATE( 15,6, (ROW('Waste record (actual)'!$A$15:$A$52)-ROW('Waste record (actual)'!$A$15)+1)/ (('Waste record (actual)'!$A$15:$A$52<>"")*(COUNTIF($A$23:K31,'Waste record (actual)'!$A$15:$A$52)=0)), 1 ) ), "")} | C32: =IF($A32="","",IFERROR(INDEX('Waste plan (estimate)'!$B$5:$B$203, MATCH($A32,'Waste plan (estimate)'!$A$5:$A$203,0)),"")) | D32: =IF($A32="","",SUMIF('Waste record (actual)'!$A$15:$A$508,$A32,'Waste record (actual)'!$L$15:$L$508)) | E32: =IF($A32="","",D32-C32) | K32: {=IFERROR( INDEX('Waste record (actual)'!$A$15:$A$52, _xlfn.AGGREGATE( 15,6, (ROW('Waste record (actual)'!$A$15:$A$52)-ROW('Waste record (actual)'!$A$15)+1)/ (('Waste record (actual)'!$A$15:$A$52<>"")*(COUNTIF($A$23:K31,'Waste record (actual)'!$A$15:$A$52)=0)), 1 ) ), "")} | L32: =IF($A32="","",IFERROR(INDEX('Waste plan (estimate)'!$E$5:$E$203, MATCH($A32,'Waste plan (estimate)'!$A$5:$A$203,0)),"")) | M32: =IF($A32="","",SUMIF('Waste record (actual)'!$A$15:$A$508,$A32,'Waste record (actual)'!$N$15:$N$508)) | N32: =IF($A32="","",SUMIF('Waste record (actual)'!$A$15:$A$508,$A32,'Waste record (actual)'!$J$15:$J$508)) | O32: =IF($A32="","",SUMIF('Waste record (actual)'!$A$15:$A$508,$A32,'Waste record (actual)'!$I$15:$I$508)) | P32: =IF($A32="","",SUMIF('Waste record (actual)'!$A$15:$A$508,$A32,'Waste record (actual)'!$P$15:$P$508)) | Q32: =IF($A32="","",SUMIF('Waste record (actual)'!$A$15:$A$508,$A32,'Waste record (actual)'!$Q$15:$Q$508)) | R32: =IF($A32="","",SUMIF('Waste record (actual)'!$A$15:$A$508,$A32,'Waste record (actual)'!$S$15:$S$508))
A33: {=IFERROR( INDEX('Waste record (actual)'!$A$15:$A$52, _xlfn.AGGREGATE( 15,6, (ROW('Waste record (actual)'!$A$15:$A$52)-ROW('Waste record (actual)'!$A$15)+1)/ (('Waste record (actual)'!$A$15:$A$52<>"")*(COUNTIF($A$23:K32,'Waste record (actual)'!$A$15:$A$52)=0)), 1 ) ), "")} | C33: =IF($A33="","",IFERROR(INDEX('Waste plan (estimate)'!$B$5:$B$203, MATCH($A33,'Waste plan (estimate)'!$A$5:$A$203,0)),"")) | D33: =IF($A33="","",SUMIF('Waste record (actual)'!$A$15:$A$508,$A33,'Waste record (actual)'!$L$15:$L$508)) | E33: =IF($A33="","",D33-C33) | K33: {=IFERROR( INDEX('Waste record (actual)'!$A$15:$A$52, _xlfn.AGGREGATE( 15,6, (ROW('Waste record (actual)'!$A$15:$A$52)-ROW('Waste record (actual)'!$A$15)+1)/ (('Waste record (actual)'!$A$15:$A$52<>"")*(COUNTIF($A$23:K32,'Waste record (actual)'!$A$15:$A$52)=0)), 1 ) ), "")} | L33: =IF($A33="","",IFERROR(INDEX('Waste plan (estimate)'!$E$5:$E$203, MATCH($A33,'Waste plan (estimate)'!$A$5:$A$203,0)),"")) | M33: =IF($A33="","",SUMIF('Waste record (actual)'!$A$15:$A$508,$A33,'Waste record (actual)'!$N$15:$N$508)) | N33: =IF($A33="","",SUMIF('Waste record (actual)'!$A$15:$A$508,$A33,'Waste record (actual)'!$J$15:$J$508)) | O33: =IF($A33="","",SUMIF('Waste record (actual)'!$A$15:$A$508,$A33,'Waste record (actual)'!$I$15:$I$508)) | P33: =IF($A33="","",SUMIF('Waste record (actual)'!$A$15:$A$508,$A33,'Waste record (actual)'!$P$15:$P$508)) | Q33: =IF($A33="","",SUMIF('Waste record (actual)'!$A$15:$A$508,$A33,'Waste record (actual)'!$Q$15:$Q$508)) | R33: =IF($A33="","",SUMIF('Waste record (actual)'!$A$15:$A$508,$A33,'Waste record (actual)'!$S$15:$S$508))
A34: {=IFERROR( INDEX('Waste record (actual)'!$A$15:$A$52, _xlfn.AGGREGATE( 15,6, (ROW('Waste record (actual)'!$A$15:$A$52)-ROW('Waste record (actual)'!$A$15)+1)/ (('Waste record (actual)'!$A$15:$A$52<>"")*(COUNTIF($A$23:K33,'Waste record (actual)'!$A$15:$A$52)=0)), 1 ) ), "")} | C34: =IF($A34="","",IFERROR(INDEX('Waste plan (estimate)'!$B$5:$B$203, MATCH($A34,'Waste plan (estimate)'!$A$5:$A$203,0)),"")) | D34: =IF($A34="","",SUMIF('Waste record (actual)'!$A$15:$A$508,$A34,'Waste record (actual)'!$L$15:$L$508)) | E34: =IF($A34="","",D34-C34) | K34: {=IFERROR( INDEX('Waste record (actual)'!$A$15:$A$52, _xlfn.AGGREGATE( 15,6, (ROW('Waste record (actual)'!$A$15:$A$52)-ROW('Waste record (actual)'!$A$15)+1)/ (('Waste record (actual)'!$A$15:$A$52<>"")*(COUNTIF($A$23:K33,'Waste record (actual)'!$A$15:$A$52)=0)), 1 ) ), "")} | L34: =IF($A34="","",IFERROR(INDEX('Waste plan (estimate)'!$E$5:$E$203, MATCH($A34,'Waste plan (estimate)'!$A$5:$A$203,0)),"")) | M34: =IF($A34="","",SUMIF('Waste record (actual)'!$A$15:$A$508,$A34,'Waste record (actual)'!$N$15:$N$508)) | N34: =IF($A34="","",SUMIF('Waste record (actual)'!$A$15:$A$508,$A34,'Waste record (actual)'!$J$15:$J$508)) | O34: =IF($A34="","",SUMIF('Waste record (actual)'!$A$15:$A$508,$A34,'Waste record (actual)'!$I$15:$I$508)) | P34: =IF($A34="","",SUMIF('Waste record (actual)'!$A$15:$A$508,$A34,'Waste record (actual)'!$P$15:$P$508)) | Q34: =IF($A34="","",SUMIF('Waste record (actual)'!$A$15:$A$508,$A34,'Waste record (actual)'!$Q$15:$Q$508)) | R34: =IF($A34="","",SUMIF('Waste record (actual)'!$A$15:$A$508,$A34,'Waste record (actual)'!$S$15:$S$508))
A35: {=IFERROR( INDEX('Waste record (actual)'!$A$15:$A$52, _xlfn.AGGREGATE( 15,6, (ROW('Waste record (actual)'!$A$15:$A$52)-ROW('Waste record (actual)'!$A$15)+1)/ (('Waste record (actual)'!$A$15:$A$52<>"")*(COUNTIF($A$23:K34,'Waste record (actual)'!$A$15:$A$52)=0)), 1 ) ), "")} | C35: =IF($A35="","",IFERROR(INDEX('Waste plan (estimate)'!$B$5:$B$203, MATCH($A35,'Waste plan (estimate)'!$A$5:$A$203,0)),"")) | D35: =IF($A35="","",SUMIF('Waste record (actual)'!$A$15:$A$508,$A35,'Waste record (actual)'!$L$15:$L$508)) | E35: =IF($A35="","",D35-C35) | K35: {=IFERROR( INDEX('Waste record (actual)'!$A$15:$A$52, _xlfn.AGGREGATE( 15,6, (ROW('Waste record (actual)'!$A$15:$A$52)-ROW('Waste record (actual)'!$A$15)+1)/ (('Waste record (actual)'!$A$15:$A$52<>"")*(COUNTIF($A$23:K34,'Waste record (actual)'!$A$15:$A$52)=0)), 1 ) ), "")} | L35: =IF($A35="","",IFERROR(INDEX('Waste plan (estimate)'!$E$5:$E$203, MATCH($A35,'Waste plan (estimate)'!$A$5:$A$203,0)),"")) | M35: =IF($A35="","",SUMIF('Waste record (actual)'!$A$15:$A$508,$A35,'Waste record (actual)'!$N$15:$N$508)) | N35: =IF($A35="","",SUMIF('Waste record (actual)'!$A$15:$A$508,$A35,'Waste record (actual)'!$J$15:$J$508)) | O35: =IF($A35="","",SUMIF('Waste record (actual)'!$A$15:$A$508,$A35,'Waste record (actual)'!$I$15:$I$508)) | P35: =IF($A35="","",SUMIF('Waste record (actual)'!$A$15:$A$508,$A35,'Waste record (actual)'!$P$15:$P$508)) | Q35: =IF($A35="","",SUMIF('Waste record (actual)'!$A$15:$A$508,$A35,'Waste record (actual)'!$Q$15:$Q$508)) | R35: =IF($A35="","",SUMIF('Waste record (actual)'!$A$15:$A$508,$A35,'Waste record (actual)'!$S$15:$S$508))
... A59: {=IFERROR( INDEX('Waste record (actual)'!$A$15:$A$52, _xlfn.AGGREGATE( 15,6, (ROW('Waste record (actual)'!$A$15:$A$52)-ROW('Waste record (actual)'!$A$15)+1)/ (('Waste record (actual)'!$A$15:$A$52<>"")*(COUNTIF($A$23:K58,'Waste record (actual)'!$A$15:$A$52)=0)), 1 ) ), "")} | C59: =IF($A59="","",IFERROR(INDEX('Waste plan (estimate)'!$B$5:$B$203, MATCH($A59,'Waste plan (estimate)'!$A$5:$A$203,0)),"")) | D59: =IF($A59="","",SUMIF('Waste record (actual)'!$A$15:$A$508,$A59,'Waste record (actual)'!$L$15:$L$508)) | E59: =IF($A59="","",D59-C59) | K59: {=IFERROR( INDEX('Waste record (actual)'!$A$15:$A$52, _xlfn.AGGREGATE( 15,6, (ROW('Waste record (actual)'!$A$15:$A$52)-ROW('Waste record (actual)'!$A$15)+1)/ (('Waste record (actual)'!$A$15:$A$52<>"")*(COUNTIF($A$23:K58,'Waste record (actual)'!$A$15:$A$52)=0)), 1 ) ), "")} | L59: =IF($A59="","",IFERROR(INDEX('Waste plan (estimate)'!$E$5:$E$203, MATCH($A59,'Waste plan (estimate)'!$A$5:$A$203,0)),"")) | M59: =IF($A59="","",SUMIF('Waste record (actual)'!$A$15:$A$508,$A59,'Waste record (actual)'!$N$15:$N$508)) | N59: =IF($A59="","",SUMIF('Waste record (actual)'!$A$15:$A$508,$A59,'Waste record (actual)'!$J$15:$J$508)) | O59: =IF($A59="","",SUMIF('Waste record (actual)'!$A$15:$A$508,$A59,'Waste record (actual)'!$I$15:$I$508)) | P59: =IF($A59="","",SUMIF('Waste record (actual)'!$A$15:$A$508,$A59,'Waste record (actual)'!$P$15:$P$508)) | Q59: =IF($A59="","",SUMIF('Waste record (actual)'!$A$15:$A$508,$A59,'Waste record (actual)'!$Q$15:$Q$508)) | R59: =IF($A59="","",SUMIF('Waste record (actual)'!$A$15:$A$508,$A59,'Waste record (actual)'!$S$15:$S$508))
A63: Optional: lessons learned for future projects
A64: What worked well?
A66: What was hard / what would you change next time?
A68: Any notes for future teams or similar projects

Sheet Lists
A1: Column1 | C1: Column1 | E1: Column1 | G1: Column1 | H1: Column2 | I1: Conversion (kg per m3) | J1: Column1 | L1: Project Type | N1: Column1
A2: Waste methods | C2: Yes/No | E2: Project types | G2: Building types | I2: Waste type | J2: kg per m³ | L2: Construction | N2: Building Type
A3: Reuse | C3: Yes | E3: New build | G3: Residential | I3: Cable ties | J3: 107.7 | L3: Deconstruction | N3: Commercial
A4: Recycle | C4: No | E4: Renovation/alteration | G4: Commercial | I4: Cardboard | J4: 43.76 | L4: Deconstruction and Construction | N4: Community and Public
A5: Recover (other) | E5: Demolition only | G5: Industrial | I5: Carpet | J5: 666.67 | L5: Renovation | N5: Education
A6: Compost | E6: Fit-out | G6: Public/Community | I6: Concrete rubble | J6: 1165.56 | L6: N/A | N6: Hospital/Health
A7: Landfill | E7: Other | G7: Other | I7: General waste (mixed) | J7: 175.07 | N7: Industrial
A8: Cleanfill | I8: Green waste | J8: 86.67 | N8: Infrastructure
A9: Other | I9: Hardfill | J9: 995.46 | N9: Other
I10: Metal (mixed) | J10: 379.6 | N10: Residential
I11: Wood (rad framing) | J11: 148.17 | N11: Rural
A12: Waste methods | I12: Plastic 3 PVC | J12: 99.88
A13: Reuse | I13: Plastic 4 Soft plastic | J13: 36.96
A14: Recycle | I14: Plastic 6 Polystyrene | J14: 47
A15: Recover (other) | I15: Metal: Clean light gauge | J15: 194.2
A16: Compost | I16: Metal: Oversized shearable | J16: 415.56
A17: Landfill | I17: Plasterboard | J17: 247.1
A18: Cleanfill
A19: Other
A20: N/A
A22: Column1 | B22: Aluminium
A23: Aluminium | B23: Aluminium
A24: Asbestos | B24: Batteries (lithium / tool batteries)
A25: Brass | B25: Brass
A26: Bricks | B26: Bricks
A27: Building wrap | B27: Cable reels / drums (plastic)
A28: Cabinetry | B28: Canvas timber wraps
A29: Cable (copper) | B29: Cardboard
A30: Cabling | B30: Carpet
A31: Cardboard/paper | B31: Cleanfill
A32: Carpet | B32: Concrete
A33: Carpet tiles | B33: Concrete sludge
... A56: Piping PVC | B56: Plasterboard (GIB)
B57: Plastics (1, 2, 5)
A58: Plasterboard | B58: Polystyrene (EPS)
A59: Plastics (1,2,5) | B59: PVC (general)
A60: Plastics (soft, eg shrink wrap) | B60: PVC piping
A61: Polystyrene | B61: Rigid foam
A62: Roofing - metal | B62: Scaffolding wrap
A63: Roofing netting | B63: Soil
...
